BEGIN:VCALENDAR
VERSION:2.0
PRODID:-//3nity.com//3nity CMS//EN
BEGIN:VEVENT
SUMMARY:Boys to Men Ministry
UID:2026-07-18-1166364@www.deliveranceoutreachtemplechurchinc.com
SEQUENCE:0
STATUS:CONFIRMED
DTSTART:20260422T180000
DTEND:20260422T190000
DTSTAMP:20161222T120000
LOCATION: Deliverance Outreach Temple Church, 851 Garrettsburg Road, Clarksville, TN 37042
DESCRIPTION:
URL:http://www.deliveranceoutreachtemplechurchinc.com
END:VEVENT
END:VCALENDAR
